BEGIN:VCALENDAR
VERSION:2.0
PRODID:-//Dom Kultury w Ustce - ECPv5.16.1.1//NONSGML v1.0//EN
CALSCALE:GREGORIAN
METHOD:PUBLISH
X-WR-CALNAME:Dom Kultury w Ustce
X-ORIGINAL-URL:https://dk.ustka.pl
X-WR-CALDESC:Wydarzenia dla Dom Kultury w Ustce
BEGIN:VTIMEZONE
TZID:Europe/Warsaw
BEGIN:DAYLIGHT
TZOFFSETFROM:+0100
TZOFFSETTO:+0200
TZNAME:CEST
DTSTART:20250330T010000
END:DAYLIGHT
BEGIN:STANDARD
TZOFFSETFROM:+0200
TZOFFSETTO:+0100
TZNAME:CET
DTSTART:20251026T010000
END:STANDARD
END:VTIMEZONE
BEGIN:VEVENT
DTSTART;TZID=Europe/Warsaw:20250126T090000
DTEND;TZID=Europe/Warsaw:20250126T210000
DTSTAMP:20260422T191609
CREATED:20250116T104931Z
LAST-MODIFIED:20250128T101819Z
UID:5892-1737882000-1737925200@dk.ustka.pl
SUMMARY:33. Finał Wielkiej Orkiestry Świątecznej Pomocy
DESCRIPTION:Aktualizacja po Finale! Cudowni ludzie! Pobiliście po raz kolejny rekord! \n\n\n\nSZTAB #533 w USTCE zebrał: \n\n\n\n❤️195 936\,01 zł❤️\n\n\n\nDZIĘKUJEMY!!! \n\n  ❤️ Dom Kultury w Ustce po raz kolejny dołącza do Wielkiej Orkiestry Świątecznej Pomocy! ❤️ W tym roku gramy dla onkologii i hematologii dziecięcej\, a motywem przewodnim 33. Finału WOŚP jest bezpieczeństwo i zdrowie dzieci. To wyjątkowa okazja\, żeby pomóc i jednocześnie świetnie się bawić! Zapraszamy wszystkich do Domu Kultury – czeka na Was mnóstwo atrakcji i licytacji\, gdzie będziecie mogli zdobyć unikalne przedmioty\, a przy okazji wesprzeć szczytny cel. Dołączcie do nas i wspólnie pokażmy\, że Ustka ma wielkie serce! ❤️   \n33. Finał WOŚP gra 26 stycznia 2025 roku!\nProgram FINAŁU w DK USTKA:\n\nod 9.00 – KWESTA ULICZNA\n12.00 – USTECKIE MORSY – plaża zachodnia przy II molo\n12.00-15.00 – TAŃCE ZUMBY z ustecką grupą CHIKAS (Promenada\, okolice fontanny)\n12.00-16.00 – ZWIEDZANIE LATARNI\, rozmowa i opowieści Latarnika o duchach zamieszkujących obiekt\n14.00 – POKAZY PIERWSZEJ POMOCY Duolife\, PREZENTACJA WOZU POLICYJNEGO (plac przy DK)\n\n – PYSZNE CIACHO – WOŚPOWA KAWIARENKA ze Związkiem Emerytów\, Rencistów i Inwalidów – Dom Kultury\n\n\n16.30 – ANIMACJE DLA NAJMŁODSZYCH – sala Domu Kultury\n17.00 – KONCERT „USTKA DLA WOŚP” – występy lokalnych artystów\, licytacja gadżetów i przedmiotów ofiarowanych przez ustczan – sala Domu Kultury\n\n  Nie może Was zabraknąć!
URL:https://dk.ustka.pl/wydarzenie/33-final-wielkiej-orkiestry-swiatecznej-pomocy/
LOCATION:Ustka\, Ustka\, Ustka\, Poland
ATTACH;FMTTYPE=image/png:https://dk.ustka.pl/wp-content/uploads/2025/01/06_zm_FB_COVER_SZTAB_PL_ogloszenie_celu_33_finalu_wosp.png
END:VEVENT
END:VCALENDAR