BEGIN:VCALENDAR
VERSION:2.0
PRODID:-//Dom Kultury w Ustce - ECPv5.16.1.1//NONSGML v1.0//EN
CALSCALE:GREGORIAN
METHOD:PUBLISH
X-WR-CALNAME:Dom Kultury w Ustce
X-ORIGINAL-URL:https://dk.ustka.pl
X-WR-CALDESC:Wydarzenia dla Dom Kultury w Ustce
BEGIN:VTIMEZONE
TZID:Europe/Warsaw
BEGIN:DAYLIGHT
TZOFFSETFROM:+0100
TZOFFSETTO:+0200
TZNAME:CEST
DTSTART:20240331T010000
END:DAYLIGHT
BEGIN:STANDARD
TZOFFSETFROM:+0200
TZOFFSETTO:+0100
TZNAME:CET
DTSTART:20241027T010000
END:STANDARD
END:VTIMEZONE
BEGIN:VEVENT
DTSTART;TZID=Europe/Warsaw:20240425T100000
DTEND;TZID=Europe/Warsaw:20240425T130000
DTSTAMP:20260420T165601
CREATED:20240322T100450Z
LAST-MODIFIED:20240322T134723Z
UID:5090-1714039200-1714050000@dk.ustka.pl
SUMMARY:41. POWIATOWY KONKURS RECYTATORSKI POEZJI POLSKIEJ - eliminacje
DESCRIPTION:Powiatowy Konkurs Recytatorski Poezji Polskiej już na stałe wpisał się w kalendarz naszych wiosennych imprez. Celem jest integrowanie najmłodszych miłośników słowa mówionego i pielęgnowanie idei amatorskiego ruchu recytatorskiego wśród uczniów szkoły podstawowej. \nW tym roku eliminacje miejskie odbędą się w Domu Kultury 25 kwietnia (czwartek) o godzinie 10.00. Usłyszymy młodych recytatorów wyłonionych podczas eliminacji szkolnych. Po wysłuchaniu prezentacji do finału powiatowego wytypowani zostaną najlepsi recytatorzy w każdej kategorii wiekowej oraz z konkursu poezji śpiewanej. Finał konkursu 3 czerwca o godz. 10.00 w OT Rondo w Słupsku. \n  \nRegulamin:\nRegulamin-41.-Powiatowego-Konkursu-Recytatorskiwgo-Poezji-Polskiej
URL:https://dk.ustka.pl/wydarzenie/41-powiatowy-konkurs-recytatorski-poezji-polskiej-eliminacje/
LOCATION:Ustka\, Ustka\, Ustka\, Poland
ATTACH;FMTTYPE=image/png:https://dk.ustka.pl/wp-content/uploads/2024/03/Wydarzenia-DK-4.png
END:VEVENT
END:VCALENDAR