BEGIN:VCALENDAR
VERSION:2.0
PRODID:-//Dom Kultury w Ustce - ECPv5.16.1.1//NONSGML v1.0//EN
CALSCALE:GREGORIAN
METHOD:PUBLISH
X-WR-CALNAME:Dom Kultury w Ustce
X-ORIGINAL-URL:https://dk.ustka.pl
X-WR-CALDESC:Wydarzenia dla Dom Kultury w Ustce
BEGIN:VTIMEZONE
TZID:Europe/Warsaw
BEGIN:DAYLIGHT
TZOFFSETFROM:+0100
TZOFFSETTO:+0200
TZNAME:CEST
DTSTART:20250330T010000
END:DAYLIGHT
BEGIN:STANDARD
TZOFFSETFROM:+0200
TZOFFSETTO:+0100
TZNAME:CET
DTSTART:20251026T010000
END:STANDARD
END:VTIMEZONE
BEGIN:VEVENT
DTSTART;TZID=Europe/Warsaw:20250222T110000
DTEND;TZID=Europe/Warsaw:20250222T120000
DTSTAMP:20260422T151356
CREATED:20250131T140836Z
LAST-MODIFIED:20250131T140836Z
UID:5923-1740222000-1740225600@dk.ustka.pl
SUMMARY:FAMILIJNA SOBOTA Z KULTURĄ: Przedstawienie "Calineczka"
DESCRIPTION:Kolejna Familijna Sobota z Kulturą przed nami! Tym razem zapraszamy was na przedstawienie marionetkowe Teatru Barnaby z Gdańska.\nDrogi Rodzicu\, Babciu\, Dziadku\, zabierz dziecko do teatru! \n  \nKlasyka na nowo\nKażdy zna historię malutkiej dziewczynki\, która jest mniejsza od łupiny orzecha\, ale czy znacie naszą Calineczkę? Jeśli nie\, to koniecznie musicie ją zobaczyć w naszym marionetkowym przedstawieniu. Przeniesiemy się do baśniowej krainy\, w której chrabąszcz przeleci tuż nad naszą głową\, a ropucha zarechocze tak głośno\, że nawet kret to usłyszy… Co z tego wyniknie? \n​Tekst i reżyseria: Tomasz Man\nLalki: Marcin Marzec\nMuzyka: Tomasz Lewandowski \nPrzedstawienie dla dzieci 3+ \n  \nKiedy: 22 lutego 2025 r. (sobota)\, g. 11.00  (czas: ok.45 min.)\nGdzie: Dom Kultury w Ustce\nBilety: 15zł / dziecko\, 20 zł /dorosły \n  \nZapisy w Sekretariacie Domu Kultury: pon.-pt. 8.00-16.00\, telefonicznie: 59 814 49 19 lub mailowo: sekretariat@dk.ustka.pl.\nBilety dostępne będą również w kasie w dniu przedstawienia.
URL:https://dk.ustka.pl/wydarzenie/familijna-sobota-z-kultura-przedstawienie-calineczka/
ATTACH;FMTTYPE=image/png:https://dk.ustka.pl/wp-content/uploads/2025/01/Wydarzenia-DK-5.png
END:VEVENT
END:VCALENDAR