BEGIN:VCALENDAR
VERSION:2.0
PRODID:-//Dom Kultury w Ustce - ECPv5.16.1.1//NONSGML v1.0//EN
CALSCALE:GREGORIAN
METHOD:PUBLISH
X-WR-CALNAME:Dom Kultury w Ustce
X-ORIGINAL-URL:https://dk.ustka.pl
X-WR-CALDESC:Wydarzenia dla Dom Kultury w Ustce
BEGIN:VTIMEZONE
TZID:Europe/Warsaw
BEGIN:DAYLIGHT
TZOFFSETFROM:+0100
TZOFFSETTO:+0200
TZNAME:CEST
DTSTART:20250330T010000
END:DAYLIGHT
BEGIN:STANDARD
TZOFFSETFROM:+0200
TZOFFSETTO:+0100
TZNAME:CET
DTSTART:20251026T010000
END:STANDARD
END:VTIMEZONE
BEGIN:VEVENT
DTSTART;TZID=Europe/Warsaw:20250523T100000
DTEND;TZID=Europe/Warsaw:20250525T170000
DTSTAMP:20260422T192542
CREATED:20250506T091325Z
LAST-MODIFIED:20250516T075551Z
UID:6158-1747994400-1748192400@dk.ustka.pl
SUMMARY:FESTIWAL PIPPI - świętujemy 80. urodziny najsilniejszej dziewczynki świata!
DESCRIPTION:Festiwal Pippi w Ustce. Świętujemy 80. urodziny najsilniejszej dziewczynki świata! \nWielkie święto radości\, wyobraźni i przygody już niebawem! W dniach 23–25 maja 2025 zapraszamy wszystkie dzieci i rodziny na Festiwal Pippi\, organizowany przez Dom Kultury w Ustce. W tym roku obchodzimy 80. urodziny kultowej bohaterki – Pippi Långstrump. \nProgram Festiwalu\nPrzed nami trzy dni pełne kolorów\, śmiechu i kreatywności. Idealna okazja\, by razem z dziećmi przenieść się do świata\, w którym wszystko jest możliwe! \nW programie: \n 23 maja (piątek) \n\n10.00 -„Lotta” – spektakl dla przedszkoli Teatru Władca Lalek ze Słupska / Dom Kultury / impreza zamknięta\n18:00 – „Astrid Lindgren – życie i twórczość” – otwarcie wystawy Ambasady Szwedzkiej / Dom Kultury/ wstęp wolny\n\n24 maja (sobota) \n\n15:30 „Bajkotworek” familijne warsztaty kreatywne / Dom Kultury / obowiązują zapisy / koszt 10 zł (za stanowisko)\n17:00 „Bajkotworek i bajek pełen worek” spektakl improwizowany dla dzieci – Teatr Improwizacji Afront Teatru Itakzagramy z Warszawy / Dom Kultury / koszt 10 zł. – dzieci; 15 zł – dorośli  (sprzedaż biletów od 12 maja\, bilety dostępne również w dniu imprezy)\n\n25 maja (niedziela) \n\n14:00-17:00 FIGLE MIGLE PIPPI – rodzinny festyn plenerowy. Finał festiwalu z mnóstwem zabaw\, warsztatów\, animacji i spektaklem. To będzie prawdziwa uczta dla dużych i małych fanów Pippi! / Plac Wolności w Ustce\n\nW programie: \n– „Trzy świnki” – Teatr Vaśka z Torunia\n– „Apteczka Pippi” – warsztaty kreatywne\n– „Telefon życzeń” – zadzwoń do Pippi\n– „Pippi obchodzi urodziny” – ogłoszenie wyników konkursu plastycznego\n– „Na ratunek żabie” – nauka pierwszej pomocy z Duolife\n– „Pan Nilson” – warsztaty plastyczne\n– „Warkocze\, warkoczyki” – nauka zaplatania\n– „Zwinni i szybcy” – zabawy animacyjne \nFestiwal Pippi to nie tylko świetna zabawa\, ale też okazja\, by przypomnieć sobie – lub poznać na nowo – wartości\, jakie niesie ze sobą ta wyjątkowa postać: odwagę\, niezależność i radość życia. \nPrzyjdźcie całą rodziną i przeżyjcie niezapomniane chwile w towarzystwie Pippi i jej przyjaciół! \nDo zobaczenia na Festiwalu! \n  \n \n  \nSponsor Główny Festiwalu Pippi: \n \n  \nPartnerami wydarzenia są:\nAmbasada Szwecji\, Astrid Lindgren Company\, Urząd Miasta Ustka\, SGB Bank Spółdzielczy w Ustce\, ZGK Ustka\, Zarząd Portu Morskiego w Ustce Sp. z o. o.\, Bistro „Kanał”\, Hotel „Jantar”\, Mistral\, Hotel „Szerokie Wody – Sea & Sand”\, Tawerna Portowa\, EMPEC Ustka\, UTBS\, Hotel „Grand Lubicz”\, Restauracja „Pod Strzechą”\, „Funlandia”\, Tawerna „Columbus”\, Hotel „Morze”\, Aerosol Service\, Miejska Komisja Rozwiązywania Problemów Alkoholowych w Ustce.
URL:https://dk.ustka.pl/wydarzenie/festiwal-pippi-2/
LOCATION:Ustka\, Ustka\, Ustka\, Poland
ATTACH;FMTTYPE=image/jpeg:https://dk.ustka.pl/wp-content/uploads/2025/05/Wydarzenia-DK-1.jpg
END:VEVENT
END:VCALENDAR