BEGIN:VCALENDAR
VERSION:2.0
PRODID:-//Dom Kultury w Ustce - ECPv5.16.1.1//NONSGML v1.0//EN
CALSCALE:GREGORIAN
METHOD:PUBLISH
X-WR-CALNAME:Dom Kultury w Ustce
X-ORIGINAL-URL:https://dk.ustka.pl
X-WR-CALDESC:Wydarzenia dla Dom Kultury w Ustce
BEGIN:VTIMEZONE
TZID:Europe/Warsaw
BEGIN:DAYLIGHT
TZOFFSETFROM:+0100
TZOFFSETTO:+0200
TZNAME:CEST
DTSTART:20240331T010000
END:DAYLIGHT
BEGIN:STANDARD
TZOFFSETFROM:+0200
TZOFFSETTO:+0100
TZNAME:CET
DTSTART:20241027T010000
END:STANDARD
END:VTIMEZONE
BEGIN:VEVENT
DTSTART;TZID=Europe/Warsaw:20240621T180000
DTEND;TZID=Europe/Warsaw:20240621T190000
DTSTAMP:20260420T181441
CREATED:20240603T132300Z
LAST-MODIFIED:20240619T104404Z
UID:5170-1718992800-1718996400@dk.ustka.pl
SUMMARY:MONODRAM"DIKE_SPRAWIEDLIWOŚĆ"
DESCRIPTION:Mamy propozycję dla miłośników teatru. Już w piątek 21 czerwca o godz. 18:00 zapraszamy na monodram „Dike_Sprawiedliwość” w wykonaniu Jolanty Juszkiewicz Teatr Kropka Theatre 2024. Wstęp wolny! \nCzy i jakie jest poszanowanie wolnej woli i czynów żony\, a jakie męża?\nW balladzie ludowej Lilije ‘męża zbójczyni\, żona’ dokonuje zbrodni w odwecie za brak głosu i woli żon w sprawie dobrowolnego zaciągu ich mężów na grabieżcze wyprawy wojenne króla Bolesława trwające latami. W mitologii greckiej Klitajmestra\, morduje męża\, który był gotów złożyć ich córkę Ifigenię w ofierze ogini Artemidzie w zamian za sprzyjające flocie wiatry na zdobycie Troi. Wcześniej zabił jej męża i dziecko\, a ją samą zgwałcił. Królowa Gertruda – matka Hamleta – nie zabija\, lecz nie zachowując żałoby po mężu traktowana jest przez syna jak zbrodniarka.\nPoprzez mity i baśnie widzimy coś więcej\, niż tylko panią\, która zabija pana. Czyn ten nabiera podwójnego znaczenia. W wymiarze rzeczywistym jest morderstwem dokonanym z zimną krwią\, jednak w wymiarze symbolicznym\, jak mówi mitologia – jest to akt sprawiedliwości wymierzony przez jej boginię – Dike. \nRealizacja i wykonanie – Jolanta Juszkiewicz. Teatr Kropka Theatre 2024. \nProjekt dofinansowany ze środków Funduszy SKE ZASP.
URL:https://dk.ustka.pl/wydarzenie/monodram-dike_sprawiedliwosc/
LOCATION:Ustka\, Ustka\, Ustka\, Poland
ATTACH;FMTTYPE=image/png:https://dk.ustka.pl/wp-content/uploads/2024/06/Wydarzenia-DK-9.png
END:VEVENT
END:VCALENDAR