BEGIN:VCALENDAR
VERSION:2.0
PRODID:-//Dom Kultury w Ustce - ECPv5.16.1.1//NONSGML v1.0//EN
CALSCALE:GREGORIAN
METHOD:PUBLISH
X-WR-CALNAME:Dom Kultury w Ustce
X-ORIGINAL-URL:https://dk.ustka.pl
X-WR-CALDESC:Wydarzenia dla Dom Kultury w Ustce
BEGIN:VTIMEZONE
TZID:Europe/Warsaw
BEGIN:DAYLIGHT
TZOFFSETFROM:+0100
TZOFFSETTO:+0200
TZNAME:CEST
DTSTART:20240331T010000
END:DAYLIGHT
BEGIN:STANDARD
TZOFFSETFROM:+0200
TZOFFSETTO:+0100
TZNAME:CET
DTSTART:20241027T010000
END:STANDARD
END:VTIMEZONE
BEGIN:VEVENT
DTSTART;TZID=Europe/Warsaw:20240517T080000
DTEND;TZID=Europe/Warsaw:20240517T170000
DTSTAMP:20260420T163527
CREATED:20240517T065853Z
LAST-MODIFIED:20240517T065853Z
UID:5135-1715932800-1715965200@dk.ustka.pl
SUMMARY:PGE Baltica głównym sponsorem Festiwalu Pippi
DESCRIPTION:Dziękujemy PGE Baltica!\n\nW tym roku dostaliśmy wspaniały prezent na Urodziny Pippi.\nPGE został naszym głównym sponsorem!\n\n\n\nCieszymy się\, że ekipa PGE Baltica obdarzyła nas zaufaniem i możemy wspólnie świętować 5 Festiwal Pippi!\nDzięki temu możemy przygotować dla Was wiele nowych atrakcji.\n\nRezerwujcie czas 24\, 25 i 26 maja 2024!
URL:https://dk.ustka.pl/wydarzenie/pge-baltica-glownym-sponsorem-festiwalu-pippi/
ATTACH;FMTTYPE=image/png:https://dk.ustka.pl/wp-content/uploads/2024/05/Kopia-DK-Facebook-rozne-4.png
END:VEVENT
END:VCALENDAR