BEGIN:VCALENDAR
VERSION:2.0
PRODID:-//Dom Kultury w Ustce - ECPv5.16.1.1//NONSGML v1.0//EN
CALSCALE:GREGORIAN
METHOD:PUBLISH
X-WR-CALNAME:Dom Kultury w Ustce
X-ORIGINAL-URL:https://dk.ustka.pl
X-WR-CALDESC:Wydarzenia dla Dom Kultury w Ustce
BEGIN:VTIMEZONE
TZID:Europe/Warsaw
BEGIN:DAYLIGHT
TZOFFSETFROM:+0100
TZOFFSETTO:+0200
TZNAME:CEST
DTSTART:20250330T010000
END:DAYLIGHT
BEGIN:STANDARD
TZOFFSETFROM:+0200
TZOFFSETTO:+0100
TZNAME:CET
DTSTART:20251026T010000
END:STANDARD
END:VTIMEZONE
BEGIN:VEVENT
DTSTART;TZID=Europe/Warsaw:20250719T160000
DTEND;TZID=Europe/Warsaw:20250720T190000
DTSTAMP:20260421T133705
CREATED:20250711T120414Z
LAST-MODIFIED:20250714T101559Z
UID:6366-1752940800-1753038000@dk.ustka.pl
SUMMARY:BAJKOWA RODZINA NAD MORZEM – projekcje filmów rysunkowych – BIELSKO-BIAŁA I BESKIDY W USTCE
DESCRIPTION:Tradycyjnie w Domu Kultury podczas cyklu Bielsko – Biała i Beskidy w Ustce odbędą się pokazy kreskówek\, zrealizowanych przez bielskie Studio Filmów Rysunkowych. Prezentacje filmowe i opowieść o tym\, jak powstaje film rysunkowy odbędą się 19 i 20 lipca 2025 w godzinach 16.00-19.00. Podczas „Bajkowej rodziny nad morzem” będzie można zobaczyć m.in. „Bolka i lolka”\, „Reksia”\, „Porwanie Baltazara Gąbki”\, czy „Pampaliniego łowcę zwierząt” Zapraszamy! Wstęp wolny.
URL:https://dk.ustka.pl/wydarzenie/pokazy-filmow-animowanych/
ATTACH;FMTTYPE=image/jpeg:https://dk.ustka.pl/wp-content/uploads/2025/07/Wydarzenia-DK-9.jpg
END:VEVENT
END:VCALENDAR