BEGIN:VCALENDAR
VERSION:2.0
PRODID:-//Dom Kultury w Ustce - ECPv5.16.1.1//NONSGML v1.0//EN
CALSCALE:GREGORIAN
METHOD:PUBLISH
X-WR-CALNAME:Dom Kultury w Ustce
X-ORIGINAL-URL:https://dk.ustka.pl
X-WR-CALDESC:Wydarzenia dla Dom Kultury w Ustce
BEGIN:VTIMEZONE
TZID:Europe/Warsaw
BEGIN:DAYLIGHT
TZOFFSETFROM:+0100
TZOFFSETTO:+0200
TZNAME:CEST
DTSTART:20240331T010000
END:DAYLIGHT
BEGIN:STANDARD
TZOFFSETFROM:+0200
TZOFFSETTO:+0100
TZNAME:CET
DTSTART:20241027T010000
END:STANDARD
BEGIN:DAYLIGHT
TZOFFSETFROM:+0100
TZOFFSETTO:+0200
TZNAME:CEST
DTSTART:20250330T010000
END:DAYLIGHT
BEGIN:STANDARD
TZOFFSETFROM:+0200
TZOFFSETTO:+0100
TZNAME:CET
DTSTART:20251026T010000
END:STANDARD
END:VTIMEZONE
BEGIN:VEVENT
DTSTART;TZID=Europe/Warsaw:20241213T180000
DTEND;TZID=Europe/Warsaw:20250117T180000
DTSTAMP:20260422T220109
CREATED:20241205T130728Z
LAST-MODIFIED:20241209T080042Z
UID:5867-1734112800-1737136800@dk.ustka.pl
SUMMARY:WYSTAWA "GEOMETRIA ZMYSŁÓW"
DESCRIPTION:Ustecki Klub Plastyków Amatorów i Dom Kultury w Ustce zapraszają na wystawę „Geometria Zmysłów”. Wernisaż odbędzie się 13 grudnia (piątek) o godz. 18.00. Prace będzie można oglądać do 17 stycznia 2025 r. \nKiedy:       13.12.2024\,  godz. 18:00\nMiejsce:   Dom Kultury w Ustce\, ul. Kosynierów 19\n \nWstęp wolny
URL:https://dk.ustka.pl/wydarzenie/wystawa-geometria-zmyslow/
ATTACH;FMTTYPE=image/png:https://dk.ustka.pl/wp-content/uploads/2020/10/plakaty-wystawa-ukpa_2024__zaproszenie.pdf.png
END:VEVENT
END:VCALENDAR